BEGIN:VCALENDAR
VERSION:2.0
PRODID:-//UQ EUS - ECPv5.3.1.1//NONSGML v1.0//EN
CALSCALE:GREGORIAN
METHOD:PUBLISH
X-WR-CALNAME:UQ EUS
X-ORIGINAL-URL:https://uqeus.org.au
X-WR-CALDESC:Events for UQ EUS
BEGIN:VTIMEZONE
TZID:Australia/Brisbane
BEGIN:STANDARD
TZOFFSETFROM:+1000
TZOFFSETTO:+1000
TZNAME:AEST
DTSTART:20210101T000000
END:STANDARD
END:VTIMEZONE
BEGIN:VEVENT
DTSTART;TZID=Australia/Brisbane:20210304T100000
DTEND;TZID=Australia/Brisbane:20210304T133000
DTSTAMP:20210228T031934
CREATED:20210222T091209Z
LAST-MODIFIED:20210222T095905Z
UID:4518-1614852000-1614864600@uqeus.org.au
SUMMARY:EUS Careers Fair Sem 1 2021
DESCRIPTION:
URL:https://uqeus.org.au/event/eus-careers-fair-sem-1-2021/
LOCATION:Holt Room\, St Lucia\, QLD\, 4072
CATEGORIES:EUS
END:VEVENT
BEGIN:VEVENT
DTSTART;TZID=Australia/Brisbane:20210304T180000
DTEND;TZID=Australia/Brisbane:20210304T180000
DTSTAMP:20210228T031934
CREATED:20210219T001201Z
LAST-MODIFIED:20210219T001201Z
UID:4515-1614880800-1614880800@uqeus.org.au
SUMMARY:EUS Super Launch
DESCRIPTION:
URL:https://uqeus.org.au/event/eus-super-launch/
LOCATION:Ric’s Bar\, 321 Brunswick St\, Fortitude Valley\, Brisbane\, Queensland\, 4006\, Australia
CATEGORIES:CESA,CHESS,EBESS,EUS,EUS Connect,MAMA,MESS,Skirts
END:VEVENT
END:VCALENDAR